BEGIN:VCALENDAR
VERSION:2.0
PRODID:-//DNVR Sports - ECPv6.10.2//NONSGML v1.0//EN
CALSCALE:GREGORIAN
METHOD:PUBLISH
X-WR-CALNAME:DNVR Sports
X-ORIGINAL-URL:https://thednvr.com
X-WR-CALDESC:Events for DNVR Sports
REFRESH-INTERVAL;VALUE=DURATION:PT1H
X-Robots-Tag:noindex
X-PUBLISHED-TTL:PT1H
BEGIN:VTIMEZONE
TZID:America/Denver
BEGIN:DAYLIGHT
TZOFFSETFROM:-0700
TZOFFSETTO:-0600
TZNAME:MDT
DTSTART:20260308T090000
END:DAYLIGHT
BEGIN:STANDARD
TZOFFSETFROM:-0600
TZOFFSETTO:-0700
TZNAME:MST
DTSTART:20261101T080000
END:STANDARD
END:VTIMEZONE
BEGIN:VEVENT
DTSTART;TZID=America/Denver:20260423T180000
DTEND;TZID=America/Denver:20260423T220000
DTSTAMP:20260421T124655
CREATED:20260331T173819Z
LAST-MODIFIED:20260415T201324Z
UID:10000439-1776967200-1776981600@thednvr.com
SUMMARY:DNVR Broncos NFL Draft Party at the Hangar Club
DESCRIPTION:DNVR Broncos NFL Draft Party and Live Show at The Hangar Club Sports and Golf Bar presented by Nubilt and The Fanatics App! Join DNVR for a night of excitement as we watch the NFL Draft unfold live. Get ready to cheer on your favorite team and enjoy great company. This in-person event will be filled with Broncos diehards\, all-you-can-eat food\, plus exclusive merch and drink tickets available (as add ons). Don’t miss out on this unforgettable experience – mark your calendars and come join us at The Hangar Club!The Denver Nuggets Playoff game WILL be on TV’s at the Hangar Club as well!
URL:https://thednvr.com/event/dnvr-broncos-nfl-draft-party-at-the-hangar-club/
LOCATION:The Hangar Club\, 7600 E 1st Place\, Denver\, Colorado\, 80230\, United States
ATTACH;FMTTYPE=image/jpeg:https://cdn.allcitynetwork.com/wp-content/uploads/sites/6/2026/03/31113748/Broncos_DDL_DraftPartyArtboard-3.jpg
END:VEVENT
END:VCALENDAR