BEGIN:VCALENDAR
VERSION:2.0
PRODID:-//DNVR Sports - ECPv6.10.2//NONSGML v1.0//EN
CALSCALE:GREGORIAN
METHOD:PUBLISH
X-ORIGINAL-URL:https://thednvr.com
X-WR-CALDESC:Events for DNVR Sports
REFRESH-INTERVAL;VALUE=DURATION:PT1H
X-Robots-Tag:noindex
X-PUBLISHED-TTL:PT1H
BEGIN:VTIMEZONE
TZID:America/Denver
BEGIN:DAYLIGHT
TZOFFSETFROM:-0700
TZOFFSETTO:-0600
TZNAME:MDT
DTSTART:20260308T090000
END:DAYLIGHT
BEGIN:STANDARD
TZOFFSETFROM:-0600
TZOFFSETTO:-0700
TZNAME:MST
DTSTART:20261101T080000
END:STANDARD
END:VTIMEZONE
BEGIN:VEVENT
DTSTART;TZID=America/Denver:20260306T163000
DTEND;TZID=America/Denver:20260306T230000
DTSTAMP:20260421T143747
CREATED:20251215T204558Z
LAST-MODIFIED:20260224T200943Z
UID:10000425-1772814600-1772838000@thednvr.com
SUMMARY:DNVR Nuggets Takeover vs New York Knicks
DESCRIPTION:Nuggets Nation!\n\n\n\nJoin the DNVR Nuggets Crew and the Diehards on March 6th as the Nuggets take on Jalen Brunson and the Knicks! Presented by NuBilt Construction!Watch Warmups COURTSIDE! We only have a limited amount of tickets for this one so make sure to grab yours before we sell out!Takeover includes:\n\n\n\n🍻Pregame Party at DNVR (2239 E Colfax Avenue)\n\n\n\n🚌 Party Bus Ride with FREE Breck Brews to Ball Arena\n\n\n\n🎟️ Warmup Watchers Courtside and Lower Level Game Ticket to Nuggets- Knicks in section 142\n\n\n\n🔙Bus Back to DNVR with the LIVE DNVR Nuggets Postgame Show\n\n\n\n🤩DNVR Diehards Save 20% on all events! Not a Diehard? Become one today and save over $30 on this event! \n\n\n\n👕 Gear up for this event with your favorite DNVR Nuggets Merch!
URL:https://thednvr.com/event/dnvr-nuggets-takeover-vs-new-york-knicks/
LOCATION:DNVR Bar & Ball Arena\, 2239 E Colfax Avenue\, DENVER\, Colorado\, 80206
CATEGORIES:Takeovers
ATTACH;FMTTYPE=image/jpeg:https://cdn.allcitynetwork.com/wp-content/uploads/sites/6/2025/12/24130825/NuggstakeoverNubilt.jpg
ORGANIZER;CN="DNVR Sports":MAILTO:info@thednvr.com
END:VEVENT
BEGIN:VEVENT
DTSTART;TZID=America/Denver:20260328T110000
DTEND;TZID=America/Denver:20260328T150000
DTSTAMP:20260421T143747
CREATED:20260113T220433Z
LAST-MODIFIED:20260322T183032Z
UID:10000431-1774695600-1774710000@thednvr.com
SUMMARY:DNVR Sports Summit FC Takeover at Empower Field
DESCRIPTION:Get ready for an epic day at Empower Field with the DNVR Sports Summit FC Takeover! Join fellow sports fans in person for a fun-filled experience packed with a DNVR party bus to the game\, great vibes\,\, and all things Summit FC. Whether you’re a new die-hard fan or just love the game\, this event is the place to be. Don’t miss out on the action and the chance to connect with the community! \n\n\n\n\nCLICK HERE FOR TICKETS
URL:https://thednvr.com/event/dnvr-sports-summit-fc-takeover-at-empower-field/
LOCATION:Colorado
CATEGORIES:Takeovers
ATTACH;FMTTYPE=image/jpeg:https://cdn.allcitynetwork.com/wp-content/uploads/sites/6/2026/01/13145938/Summit_TakeoverArtboard-2.jpg
END:VEVENT
BEGIN:VEVENT
DTSTART;TZID=America/Denver:20260328T150000
DTEND;TZID=America/Denver:20260328T200000
DTSTAMP:20260421T143747
CREATED:20251007T211630Z
LAST-MODIFIED:20251215T204802Z
UID:10000412-1774710000-1774728000@thednvr.com
SUMMARY:DNVR Avalanche Takeover at Ball Arena vs Winnipeg Jets
DESCRIPTION:The DNVR Avs Crew and Diehards are taking over Ball Arena for a Saturday afternoon matchup with the division rival Winnipeg Jets presented by Breckenridge Brewery! \n\n\n\nTakeover includes a Pregame Party at the DNVR Bar\, Party Bus Ride from the Bar to Ball Arena\, Game Ticket in the upper bowl and a bus ride back to the bar for a postgame hangout! \n\n\n\nGear up for this event with DNVR Avalanche Merch\n\n\nDNVR Diehards Save 20% on Takeovers! Log in to reveal your discount code below.\n\n                       \n            \n        \n                              Username\n                  \n        \n      \n      \n        \n          Password\n                    \n            \n            \n              \n            \n          \n        \n      \n            \n         Remember Me\n      \n       \n      \n        \n        \n        \n        \n      \n    \n     \n    \n      Forgot Password
URL:https://thednvr.com/event/dnvr-avalanche-takeover-at-ball-arena-vs-winnipeg-jets/
LOCATION:DNVR Bar & Ball Arena\, 2239 E Colfax Avenue\, DENVER\, Colorado\, 80206
CATEGORIES:Takeovers
ATTACH;FMTTYPE=image/jpeg:https://cdn.allcitynetwork.com/wp-content/uploads/sites/6/2025/10/07150104/Avs_Takeovers25_1920x1080.jpg
END:VEVENT
END:VCALENDAR