BEGIN:VCALENDAR
VERSION:2.0
PRODID:-//DNVR Sports - ECPv6.10.2//NONSGML v1.0//EN
CALSCALE:GREGORIAN
METHOD:PUBLISH
X-ORIGINAL-URL:https://thednvr.com
X-WR-CALDESC:Events for DNVR Sports
REFRESH-INTERVAL;VALUE=DURATION:PT1H
X-Robots-Tag:noindex
X-PUBLISHED-TTL:PT1H
BEGIN:VTIMEZONE
TZID:America/Denver
BEGIN:DAYLIGHT
TZOFFSETFROM:-0700
TZOFFSETTO:-0600
TZNAME:MDT
DTSTART:20250309T090000
END:DAYLIGHT
BEGIN:STANDARD
TZOFFSETFROM:-0600
TZOFFSETTO:-0700
TZNAME:MST
DTSTART:20251102T080000
END:STANDARD
END:VTIMEZONE
BEGIN:VEVENT
DTSTART;TZID=America/Denver:20251101T140000
DTEND;TZID=America/Denver:20251101T170000
DTSTAMP:20260421T211643
CREATED:20251027T173641Z
LAST-MODIFIED:20251027T173644Z
UID:10000414-1762005600-1762016400@thednvr.com
SUMMARY:DNVR Buffs Tailgate on Benson Field vs Arizona
DESCRIPTION:Join RK\, Jake\, Scott and the Buffs Diehards on Benson Field before homecoming presented by Toyota and Breckenridge Brewery!Music\, Breck Brews and Immaculate Vibes with the DNVR Buffs Crew
URL:https://thednvr.com/event/dnvr-buffs-tailgate-on-benson-field-vs-arizona/
LOCATION:DNVR Buffs Tailgate Benson Field\, 2200 Colorado Avenue\, Boulder\, Colorado\, 80309\, United States
CATEGORIES:Tailgates
ATTACH;FMTTYPE=image/jpeg:https://cdn.allcitynetwork.com/wp-content/uploads/sites/6/2025/08/22105744/Buffs_Tailgate_20251920x1080.jpg
ORGANIZER;CN="DNVR Sports":MAILTO:info@thednvr.com
END:VEVENT
BEGIN:VEVENT
DTSTART;TZID=America/Denver:20251102T110000
DTEND;TZID=America/Denver:20251102T140000
DTSTAMP:20260421T211643
CREATED:20251028T234428Z
LAST-MODIFIED:20251029T172550Z
UID:10000388-1762081200-1762092000@thednvr.com
SUMMARY:DNVR Broncos Watch Party
DESCRIPTION:Every Broncos game we bring the fire. 🔥Game Sound\, Drink Specials\, Giveaways\, hanging out with the DNVR hosts\, and immaculate vibes ONLY! Don’t miss out on Denver’s 2025 award winning bar by the Westword for “Best Denver Broncos Bar”!
URL:https://thednvr.com/event/dnvr-broncos-watch-party-2/
LOCATION:DNVR Bar\, 2239 E Colfax Ave\, Denver\, Colorado\, 80206
CATEGORIES:Watch Party
ATTACH;FMTTYPE=image/jpeg:https://cdn.allcitynetwork.com/wp-content/uploads/sites/6/2025/08/28174412/IMG_6108.jpg
END:VEVENT
BEGIN:VEVENT
DTSTART;TZID=America/Denver:20251102T150000
DTEND;TZID=America/Denver:20251102T180000
DTSTAMP:20260421T211643
CREATED:20251029T183704Z
LAST-MODIFIED:20251029T183707Z
UID:10000415-1762095600-1762106400@thednvr.com
SUMMARY:NWSL Decision Day Watch Party
DESCRIPTION:⚽️ Who’s ready for NWSL Decision Day?! \n\n\n\nWe’re teaming up with the Denver Summit Supporters Group the 14ers to bring you an epic Sunday soccer throwdown! 🙌 \n\n\n\nWe’ll have ALL 3PM games on screen\, with game sound for two games! \n\n\n\n🍹 Drink specials🎁 Giveaways✨ Immaculate vibes \n\n\n\nDon’t miss the action — come catch it all with us!
URL:https://thednvr.com/event/nwsl-decision-day-watch-party/
LOCATION:DNVR Bar\, 2239 E Colfax Ave\, Denver\, Colorado\, 80206
CATEGORIES:Watch Party
ATTACH;FMTTYPE=image/jpeg:https://cdn.allcitynetwork.com/wp-content/uploads/sites/6/2025/10/29123536/IMG_6096.jpg
END:VEVENT
BEGIN:VEVENT
DTSTART;TZID=America/Denver:20251106T150000
DTEND;TZID=America/Denver:20251106T180000
DTSTAMP:20260421T211643
CREATED:20250603T162047Z
LAST-MODIFIED:20250829T005732Z
UID:10000359-1762441200-1762452000@thednvr.com
SUMMARY:DNVR Broncos Tailgate TNF vs Las Vegas Raiders
DESCRIPTION:The Official DNVR Broncos Tailgate! Join the Diehards for this all-inclusive tailgate. DNVR Sports has been hosting Tailgates for over 5 years at the Sportsfan– with a live DJ\, TVs\, All-You-Can-Eat catering from Saucy’s Southern BBQ and Sexy Pizza\, Plus Beers from Breckenridge Brewery and Coors Light and canned cocktails with other vendors this is the best tailgate in the city! \n\n\n\n 🚌 DNVR Party Bus– DNVR Runs a party bus each week to the tailgate. It will pick up at the DNVR Bar (2239 E Colfax Avenue) 15 minutes before the tailgate and bring you to the party with beer served along the way! This party bus will also pick you up from Empower Field after the game is over and bring you back to the bar. This is a separate ticket than the general admission tailgate ticket. \n\n\n\nDNVR Broncos Tailgate Tickets\n\n\n\nDNVR Diehards Receive 20% off ALL Tailgate Tickets- Log in to Reveal Your Discount Code Below
URL:https://thednvr.com/event/dnvr-broncos-tailgate-tnf-vs-las-vegas-raiders/
LOCATION:SportsFan Federal (Back Parking Lot)\, 1720 Federal Blvd\, Denver\, Colorado\, 80204\, United States
CATEGORIES:Tailgates
ATTACH;FMTTYPE=image/jpeg:https://cdn.allcitynetwork.com/wp-content/uploads/sites/6/2025/06/03093035/Tailgate_Evergreen_1920x1080.jpg
END:VEVENT
BEGIN:VEVENT
DTSTART;TZID=America/Denver:20251106T180000
DTEND;TZID=America/Denver:20251106T213000
DTSTAMP:20260421T211643
CREATED:20250804T184750Z
LAST-MODIFIED:20250804T184754Z
UID:10000389-1762452000-1762464600@thednvr.com
SUMMARY:DNVR Broncos Watch Party
DESCRIPTION:Every Broncos game we bring the fire. 🔥Game Sound\, Drink Specials\, Giveaways\, hanging out with the DNVR hosts\, and immaculate vibes ONLY! Don’t miss out on Denver’s 2025 award winning bar by the Westword for “Best Denver Broncos Bar”!
URL:https://thednvr.com/event/dnvr-broncos-watch-party/2025-11-06/
LOCATION:DNVR Bar\, 2239 E Colfax Ave\, Denver\, Colorado\, 80206
CATEGORIES:Watch Party
ATTACH;FMTTYPE=image/jpeg:https://cdn.allcitynetwork.com/wp-content/uploads/sites/6/2025/08/04124610/Broncos2025WP.jpg
END:VEVENT
BEGIN:VEVENT
DTSTART;TZID=America/Denver:20251116T110000
DTEND;TZID=America/Denver:20251116T140000
DTSTAMP:20260421T211643
CREATED:20250603T162447Z
LAST-MODIFIED:20250829T005819Z
UID:10000360-1763290800-1763301600@thednvr.com
SUMMARY:DNVR Broncos Tailgate vs Kansas City Chiefs
DESCRIPTION:The Official DNVR Broncos Tailgate! Join the Diehards for this all-inclusive tailgate. DNVR Sports has been hosting Tailgates for over 5 years at the Sportsfan– with a live DJ\, TVs\, All-You-Can-Eat catering from Saucy’s Southern BBQ and Sexy Pizza\, Plus Beers from Breckenridge Brewery and Coors Light and canned cocktails with other vendors this is the best tailgate in the city! \n\n\n\n 🚌 DNVR Party Bus– DNVR Runs a party bus each week to the tailgate. It will pick up at the DNVR Bar (2239 E Colfax Avenue) 15 minutes before the tailgate and bring you to the party with beer served along the way! This party bus will also pick you up from Empower Field after the game is over and bring you back to the bar. This is a separate ticket than the general admission tailgate ticket. \n\n\n\nDNVR Broncos Tailgate Tickets\n\n\n\nDNVR Diehards Receive 20% off ALL Tailgate Tickets- Log in to Reveal Your Discount Code Below
URL:https://thednvr.com/event/dnvr-broncos-tailgate-vs-kansas-city-chiefs/
LOCATION:SportsFan Federal (Back Parking Lot)\, 1720 Federal Blvd\, Denver\, Colorado\, 80204\, United States
CATEGORIES:Tailgates
ATTACH;FMTTYPE=image/jpeg:https://cdn.allcitynetwork.com/wp-content/uploads/sites/6/2025/06/03093035/Tailgate_Evergreen_1920x1080.jpg
END:VEVENT
BEGIN:VEVENT
DTSTART;TZID=America/Denver:20251116T140000
DTEND;TZID=America/Denver:20251116T170000
DTSTAMP:20260421T211643
CREATED:20250804T184750Z
LAST-MODIFIED:20250804T184754Z
UID:10000390-1763301600-1763312400@thednvr.com
SUMMARY:DNVR Broncos Watch Party
DESCRIPTION:Every Broncos game we bring the fire. 🔥Game Sound\, Drink Specials\, Giveaways\, hanging out with the DNVR hosts\, and immaculate vibes ONLY! Don’t miss out on Denver’s 2025 award winning bar by the Westword for “Best Denver Broncos Bar”!
URL:https://thednvr.com/event/dnvr-broncos-watch-party/2025-11-16/
LOCATION:DNVR Bar\, 2239 E Colfax Ave\, Denver\, Colorado\, 80206
CATEGORIES:Watch Party
ATTACH;FMTTYPE=image/jpeg:https://cdn.allcitynetwork.com/wp-content/uploads/sites/6/2025/08/04124610/Broncos2025WP.jpg
END:VEVENT
BEGIN:VEVENT
DTSTART;TZID=America/Denver:20251122T150000
DTEND;TZID=America/Denver:20251122T180000
DTSTAMP:20260421T211643
CREATED:20251120T132652Z
LAST-MODIFIED:20251120T132655Z
UID:10000419-1763823600-1763834400@thednvr.com
SUMMARY:DNVR Buffs Tailgate on Benson Field vs Arizona
DESCRIPTION:Join RK\, Jake\, Scott and the Buffs Diehards on Benson Field before homecoming presented by Toyota and Breckenridge Brewery!Music\, Breck Brews and Immaculate Vibes with the DNVR Buffs Crew
URL:https://thednvr.com/event/dnvr-buffs-tailgate-on-benson-field-vs-arizona-2/
LOCATION:DNVR Buffs Tailgate Benson Field\, 2200 Colorado Avenue\, Boulder\, Colorado\, 80309\, United States
CATEGORIES:Tailgates
ATTACH;FMTTYPE=image/jpeg:https://cdn.allcitynetwork.com/wp-content/uploads/sites/6/2025/08/22105744/Buffs_Tailgate_20251920x1080.jpg
ORGANIZER;CN="DNVR Sports":MAILTO:info@thednvr.com
END:VEVENT
BEGIN:VEVENT
DTSTART;TZID=America/Denver:20251128T170000
DTEND;TZID=America/Denver:20251128T230000
DTSTAMP:20260421T211643
CREATED:20250916T192021Z
LAST-MODIFIED:20251111T220518Z
UID:10000403-1764349200-1764370800@thednvr.com
SUMMARY:DNVR Nuggets Takeover at Ball Arena vs San Antonio Spurs-SOLD OUT
DESCRIPTION:Nuggets Nation! \n\n\n\nJoin the DNVR Nuggets Crew and the Diehards on November 28th as the Nuggets take on Victor Wembanyama and the Spurs plus watching the Nuggets Warm up Courtside! We only have a limited amount of tickets so make sure to grab yours before we sell out!Takeover includes: \n\n\n\n🍻 Pregame Party at DNVR (2239 E Colfax Avenue) \n\n\n\n🚌  Party Bus Ride with FREE Breck Brews to Ball Arena \n\n\n\n🎟️ Courtside Warmup Watcher and Lower Level Game Ticket to Nuggets- Spurs in section 132 \n\n\n\n🔙 Bus Back to DNVR with the LIVE DNVR Nuggets Postgame Show👕 Gear Up for the Takeover with DNVR NUGGETS MERCH \n\n\n\n👀 Diehards Save 20% on this event. Not a Diehard? BECOME ONE TODAY and save $30 on this takeover. Diehards Log In to Reveal your discount code below! \n\n\nThis event is only available to Diehards at the moment\, just log in to check out and use your discount code!\n\n                       \n            \n        \n                              Username\n                  \n        \n      \n      \n        \n          Password\n                    \n            \n            \n              \n            \n          \n        \n      \n            \n         Remember Me\n      \n       \n      \n        \n        \n        \n        \n      \n    \n     \n    \n      Forgot Password
URL:https://thednvr.com/event/dnvr-nuggets-takeover-at-ball-arena-vs-san-antonio-spurs/
LOCATION:DNVR Bar & Ball Arena\, 2239 E Colfax Avenue\, DENVER\, Colorado\, 80206
ATTACH;FMTTYPE=image/png:https://cdn.allcitynetwork.com/wp-content/uploads/sites/6/2025/09/11150504/NugsSoldOut.png
ORGANIZER;CN="DNVR Sports":MAILTO:info@thednvr.com
END:VEVENT
BEGIN:VEVENT
DTSTART;TZID=America/Denver:20251130T180000
DTEND;TZID=America/Denver:20251130T213000
DTSTAMP:20260421T211643
CREATED:20251028T234545Z
LAST-MODIFIED:20251104T133946Z
UID:10000391-1764525600-1764538200@thednvr.com
SUMMARY:DNVR Broncos Watch Party
DESCRIPTION:Every Broncos game we bring the fire. 🔥Game Sound\, Drink Specials\, Giveaways\, hanging out with the DNVR hosts\, and immaculate vibes ONLY! Don’t miss out on Denver’s 2025 award winning bar by the Westword for “Best Denver Broncos Bar”!
URL:https://thednvr.com/event/dnvr-broncos-watch-party-3/
LOCATION:DNVR Bar\, 2239 E Colfax Ave\, Denver\, Colorado\, 80206
CATEGORIES:Watch Party
ATTACH;FMTTYPE=image/jpeg:https://cdn.allcitynetwork.com/wp-content/uploads/sites/6/2025/10/04063933/IMG_6293.jpeg
END:VEVENT
END:VCALENDAR