BEGIN:VCALENDAR
VERSION:2.0
PRODID:-//DNVR Sports - ECPv6.10.2//NONSGML v1.0//EN
CALSCALE:GREGORIAN
METHOD:PUBLISH
X-ORIGINAL-URL:https://thednvr.com
X-WR-CALDESC:Events for DNVR Sports
REFRESH-INTERVAL;VALUE=DURATION:PT1H
X-Robots-Tag:noindex
X-PUBLISHED-TTL:PT1H
BEGIN:VTIMEZONE
TZID:America/Denver
BEGIN:DAYLIGHT
TZOFFSETFROM:-0700
TZOFFSETTO:-0600
TZNAME:MDT
DTSTART:20250309T090000
END:DAYLIGHT
BEGIN:STANDARD
TZOFFSETFROM:-0600
TZOFFSETTO:-0700
TZNAME:MST
DTSTART:20251102T080000
END:STANDARD
END:VTIMEZONE
BEGIN:VEVENT
DTSTART;TZID=America/Denver:20250906T090000
DTEND;TZID=America/Denver:20250906T130000
DTSTAMP:20260422T004537
CREATED:20250902T143741Z
LAST-MODIFIED:20250902T143743Z
UID:10000400-1757149200-1757163600@thednvr.com
SUMMARY:DNVR Buffs Tailgate on Benson Field vs Delaware
DESCRIPTION:Join RK\, Jake\, Scott and the Buffs Diehards on Benson Field before every game presented by Toyota and Breckenridge Brewery!Yards Games\, Music\, Breck Brew and Immaculate Vibes!
URL:https://thednvr.com/event/dnvr-buffs-tailgate-on-benson-field-vs-delaware/
LOCATION:DNVR Buffs Tailgate Benson Field\, 2200 Colorado Avenue\, Boulder\, Colorado\, 80309\, United States
ATTACH;FMTTYPE=image/jpeg:https://cdn.allcitynetwork.com/wp-content/uploads/sites/6/2025/08/22105744/Buffs_Tailgate_20251920x1080.jpg
ORGANIZER;CN="DNVR Sports":MAILTO:info@thednvr.com
END:VEVENT
BEGIN:VEVENT
DTSTART;TZID=America/Denver:20250907T110000
DTEND;TZID=America/Denver:20250907T140000
DTSTAMP:20260422T004537
CREATED:20250603T154727Z
LAST-MODIFIED:20250829T005442Z
UID:10000355-1757242800-1757253600@thednvr.com
SUMMARY:DNVR Broncos Tailgate vs Tennessee Titans
DESCRIPTION:The Official DNVR Broncos Tailgate! Join the Diehards for this all-inclusive tailgate. DNVR Sports has been hosting Tailgates for over 5 years at the Sportsfan– with a live DJ\, TVs\, All-You-Can-Eat catering from Saucy’s Southern BBQ and Sexy Pizza\, Plus Beers from Breckenridge Brewery and Coors Light and canned cocktails with other vendors this is the best tailgate in the city! \n\n\n\n 🚌 DNVR Party Bus– DNVR Runs a party bus each week to the tailgate. It will pick up at the DNVR Bar (2239 E Colfax Avenue) 15 minutes before the tailgate and bring you to the party with beer served along the way! This party bus will also pick you up from Empower Field after the game is over and bring you back to the bar. This is a separate ticket than the general admission tailgate ticket. \n\n\n\n🎟️ SEASON PASS– Do you have tickets to all of the Broncos Games? You can purchase a discounted season pass for all 9 home tailgates and join us every single week! The season pass saves you over $80 for the entire year. \n\n\n\nDNVR Broncos Tailgate Tickets\n\n\n\nDNVR Diehards Receive 20% off ALL Tailgate Tickets- Log in to Reveal Your Discount Code Below
URL:https://thednvr.com/event/dnvr-broncos-tailgate-vs-tennessee-titans/
LOCATION:SportsFan Federal (Back Parking Lot)\, 1720 Federal Blvd\, Denver\, Colorado\, 80204\, United States
CATEGORIES:Tailgates
ATTACH;FMTTYPE=image/jpeg:https://cdn.allcitynetwork.com/wp-content/uploads/sites/6/2025/06/03093035/Tailgate_Evergreen_1920x1080.jpg
END:VEVENT
BEGIN:VEVENT
DTSTART;TZID=America/Denver:20250907T140000
DTEND;TZID=America/Denver:20250907T170000
DTSTAMP:20260422T004537
CREATED:20250804T184750Z
LAST-MODIFIED:20250804T184754Z
UID:10000380-1757253600-1757264400@thednvr.com
SUMMARY:DNVR Broncos Watch Party
DESCRIPTION:Every Broncos game we bring the fire. 🔥Game Sound\, Drink Specials\, Giveaways\, hanging out with the DNVR hosts\, and immaculate vibes ONLY! Don’t miss out on Denver’s 2025 award winning bar by the Westword for “Best Denver Broncos Bar”!
URL:https://thednvr.com/event/dnvr-broncos-watch-party/2025-09-07/
LOCATION:DNVR Bar\, 2239 E Colfax Ave\, Denver\, Colorado\, 80206
CATEGORIES:Watch Party
ATTACH;FMTTYPE=image/jpeg:https://cdn.allcitynetwork.com/wp-content/uploads/sites/6/2025/08/04124610/Broncos2025WP.jpg
END:VEVENT
BEGIN:VEVENT
DTSTART;TZID=America/Denver:20250914T140000
DTEND;TZID=America/Denver:20250914T170000
DTSTAMP:20260422T004537
CREATED:20250804T184750Z
LAST-MODIFIED:20250804T184754Z
UID:10000381-1757858400-1757869200@thednvr.com
SUMMARY:DNVR Broncos Watch Party
DESCRIPTION:Every Broncos game we bring the fire. 🔥Game Sound\, Drink Specials\, Giveaways\, hanging out with the DNVR hosts\, and immaculate vibes ONLY! Don’t miss out on Denver’s 2025 award winning bar by the Westword for “Best Denver Broncos Bar”!
URL:https://thednvr.com/event/dnvr-broncos-watch-party/2025-09-14/
LOCATION:DNVR Bar\, 2239 E Colfax Ave\, Denver\, Colorado\, 80206
CATEGORIES:Watch Party
ATTACH;FMTTYPE=image/jpeg:https://cdn.allcitynetwork.com/wp-content/uploads/sites/6/2025/08/04124610/Broncos2025WP.jpg
END:VEVENT
BEGIN:VEVENT
DTSTART;TZID=America/Denver:20250919T170000
DTEND;TZID=America/Denver:20250919T213000
DTSTAMP:20260422T004537
CREATED:20250423T234238Z
LAST-MODIFIED:20250620T210939Z
UID:10000328-1758301200-1758317400@thednvr.com
SUMMARY:Friday Rooftop Club at Coors Field presented by Raising Cane's
DESCRIPTION:Join the DNVR Crew and other Diehards at Coors Field on the Rooftop to hang out\, drink some beer\, and enjoy summer Friday evenings with friends! Purchase your DNVR Rooftop Club Shirt here! \n\n\n\nThis is FREE to attend- just grab a rooftop ticket from our partner on the Gametime Ticketing App (Promo Code DNVR) and come hang out with us before first pitch for $3 Coors Lights. We’ll meet up about 40 minutes before game time by the Smashburger on the Rooftop! \n\n\n\nYou can RSVP below to let us know you’re joining us!
URL:https://thednvr.com/event/friday-rooftop-club-at-coors-field-presented-by-raising-canes-2/2025-09-19/
LOCATION:Coors Field\, 2001 Blake Street\, Denver\, Colorado\, 80206\, United States
CATEGORIES:Meet Up
ATTACH;FMTTYPE=image/jpeg:https://cdn.allcitynetwork.com/wp-content/uploads/sites/6/2025/03/21113332/DNVR_Rockies_RoottopFridays1920x1080.jpg
END:VEVENT
BEGIN:VEVENT
DTSTART;TZID=America/Denver:20250920T170000
DTEND;TZID=America/Denver:20250920T200000
DTSTAMP:20260422T004537
CREATED:20250916T175424Z
LAST-MODIFIED:20250916T175426Z
UID:10000401-1758387600-1758398400@thednvr.com
SUMMARY:DNVR Buffs Tailgate on Benson Field vs Wyoming
DESCRIPTION:Join RK\, Jake\, Scott and the Buffs Diehards on Benson Field before every game presented by Toyota and Breckenridge Brewery!Music\, Breck Brews and Immaculate Vibes with the DNVR Buffs Crew
URL:https://thednvr.com/event/dnvr-buffs-tailgate-on-benson-field-vs-wyoming/
LOCATION:DNVR Buffs Tailgate Benson Field\, 2200 Colorado Avenue\, Boulder\, Colorado\, 80309\, United States
ATTACH;FMTTYPE=image/jpeg:https://cdn.allcitynetwork.com/wp-content/uploads/sites/6/2025/08/22105744/Buffs_Tailgate_20251920x1080.jpg
ORGANIZER;CN="DNVR Sports":MAILTO:info@thednvr.com
END:VEVENT
BEGIN:VEVENT
DTSTART;TZID=America/Denver:20250921T140000
DTEND;TZID=America/Denver:20250921T170000
DTSTAMP:20260422T004537
CREATED:20250804T184750Z
LAST-MODIFIED:20250804T184754Z
UID:10000382-1758463200-1758474000@thednvr.com
SUMMARY:DNVR Broncos Watch Party
DESCRIPTION:Every Broncos game we bring the fire. 🔥Game Sound\, Drink Specials\, Giveaways\, hanging out with the DNVR hosts\, and immaculate vibes ONLY! Don’t miss out on Denver’s 2025 award winning bar by the Westword for “Best Denver Broncos Bar”!
URL:https://thednvr.com/event/dnvr-broncos-watch-party/2025-09-21/
LOCATION:DNVR Bar\, 2239 E Colfax Ave\, Denver\, Colorado\, 80206
CATEGORIES:Watch Party
ATTACH;FMTTYPE=image/jpeg:https://cdn.allcitynetwork.com/wp-content/uploads/sites/6/2025/08/04124610/Broncos2025WP.jpg
END:VEVENT
BEGIN:VEVENT
DTSTART;TZID=America/Denver:20250923T183000
DTEND;TZID=America/Denver:20250923T220000
DTSTAMP:20260422T004537
CREATED:20250917T135253Z
LAST-MODIFIED:20250917T135256Z
UID:10000405-1758652200-1758664800@thednvr.com
SUMMARY:Dungeons N' Drafts at DNVR
DESCRIPTION:Join us for Dungeons N’ Drafts at DNVR!  \n\n\n\n\nCLICK HERE TO REGISTER
URL:https://thednvr.com/event/dungeons-n-drafts-at-dnvr-4/
LOCATION:DNVR Bar\, 2239 E Colfax Ave\, Denver\, Colorado\, 80206
ATTACH;FMTTYPE=image/jpeg:https://cdn.allcitynetwork.com/wp-content/uploads/sites/6/2025/09/17075224/IMG_4690.jpeg
END:VEVENT
BEGIN:VEVENT
DTSTART;TZID=America/Denver:20250927T170000
DTEND;TZID=America/Denver:20250927T200000
DTSTAMP:20260422T004537
CREATED:20250922T172838Z
LAST-MODIFIED:20250922T172840Z
UID:10000406-1758992400-1759003200@thednvr.com
SUMMARY:DNVR Buffs Tailgate on Benson Field vs BYU
DESCRIPTION:Join RK\, Jake\, Scott and the Buffs Diehards on Benson Field before every game presented by Toyota and Breckenridge Brewery!Music\, Breck Brews and Immaculate Vibes with the DNVR Buffs Crew
URL:https://thednvr.com/event/dnvr-buffs-tailgate-on-benson-field-vs-byu/
LOCATION:DNVR Buffs Tailgate Benson Field\, 2200 Colorado Avenue\, Boulder\, Colorado\, 80309\, United States
ATTACH;FMTTYPE=image/jpeg:https://cdn.allcitynetwork.com/wp-content/uploads/sites/6/2025/08/22105744/Buffs_Tailgate_20251920x1080.jpg
ORGANIZER;CN="DNVR Sports":MAILTO:info@thednvr.com
END:VEVENT
BEGIN:VEVENT
DTSTART;TZID=America/Denver:20250929T150000
DTEND;TZID=America/Denver:20250929T180000
DTSTAMP:20260422T004537
CREATED:20250603T160621Z
LAST-MODIFIED:20250829T005522Z
UID:10000356-1759158000-1759168800@thednvr.com
SUMMARY:DNVR Broncos Tailgate MNF vs Cincinnati Bengals
DESCRIPTION:The Official DNVR Broncos Tailgate! Join the Diehards for this all-inclusive tailgate. DNVR Sports has been hosting Tailgates for over 5 years at the Sportsfan– with a live DJ\, TVs\, All-You-Can-Eat catering from Saucy’s Southern BBQ and Sexy Pizza\, Plus Beers from Breckenridge Brewery and Coors Light and canned cocktails with other vendors this is the best tailgate in the city! \n\n\n\n 🚌 DNVR Party Bus– DNVR Runs a party bus each week to the tailgate. It will pick up at the DNVR Bar (2239 E Colfax Avenue) 15 minutes before the tailgate and bring you to the party with beer served along the way! This party bus will also pick you up from Empower Field after the game is over and bring you back to the bar. This is a separate ticket than the general admission tailgate ticket. \n\n\n\nDNVR Broncos Tailgate Tickets\n\n\n\nDNVR Diehards Receive 20% off ALL Tailgate Tickets- Log in to Reveal Your Discount Code Below
URL:https://thednvr.com/event/dnvr-broncos-tailgate-mnf-vs-cincinnati-bengals/
LOCATION:SportsFan Federal (Back Parking Lot)\, 1720 Federal Blvd\, Denver\, Colorado\, 80204\, United States
CATEGORIES:Tailgates
ATTACH;FMTTYPE=image/jpeg:https://cdn.allcitynetwork.com/wp-content/uploads/sites/6/2025/06/03093035/Tailgate_Evergreen_1920x1080.jpg
END:VEVENT
BEGIN:VEVENT
DTSTART;TZID=America/Denver:20250929T180000
DTEND;TZID=America/Denver:20250929T213000
DTSTAMP:20260422T004537
CREATED:20250804T184750Z
LAST-MODIFIED:20250804T184754Z
UID:10000383-1759168800-1759181400@thednvr.com
SUMMARY:DNVR Broncos Watch Party
DESCRIPTION:Every Broncos game we bring the fire. 🔥Game Sound\, Drink Specials\, Giveaways\, hanging out with the DNVR hosts\, and immaculate vibes ONLY! Don’t miss out on Denver’s 2025 award winning bar by the Westword for “Best Denver Broncos Bar”!
URL:https://thednvr.com/event/dnvr-broncos-watch-party/2025-09-29/
LOCATION:DNVR Bar\, 2239 E Colfax Ave\, Denver\, Colorado\, 80206
CATEGORIES:Watch Party
ATTACH;FMTTYPE=image/jpeg:https://cdn.allcitynetwork.com/wp-content/uploads/sites/6/2025/08/04124610/Broncos2025WP.jpg
END:VEVENT
END:VCALENDAR