BEGIN:VCALENDAR
VERSION:2.0
PRODID:-//DNVR Sports - ECPv6.10.2//NONSGML v1.0//EN
CALSCALE:GREGORIAN
METHOD:PUBLISH
X-WR-CALNAME:DNVR Sports
X-ORIGINAL-URL:https://thednvr.com
X-WR-CALDESC:Events for DNVR Sports
REFRESH-INTERVAL;VALUE=DURATION:PT1H
X-Robots-Tag:noindex
X-PUBLISHED-TTL:PT1H
BEGIN:VTIMEZONE
TZID:America/Denver
BEGIN:DAYLIGHT
TZOFFSETFROM:-0700
TZOFFSETTO:-0600
TZNAME:MDT
DTSTART:20250309T090000
END:DAYLIGHT
BEGIN:STANDARD
TZOFFSETFROM:-0600
TZOFFSETTO:-0700
TZNAME:MST
DTSTART:20251102T080000
END:STANDARD
END:VTIMEZONE
BEGIN:VEVENT
DTSTART;TZID=America/Denver:20250713T190000
DTEND;TZID=America/Denver:20250713T200000
DTSTAMP:20260422T035901
CREATED:20250708T153135Z
LAST-MODIFIED:20250708T153239Z
UID:10000371-1752433200-1752436800@thednvr.com
SUMMARY:Love Island Finale Watch Party
DESCRIPTION:Come join us for the ultimate Love Island finale watch party at The DNVR Bar! Grab your friends and immerse yourself in the drama\, romance\, and unexpected twists of the final episode. Enjoy the show on big screens\, $3 Well Drinks\, and a lively atmosphere. Don’t miss out on the chance to witness the crowning moment of your favorite islanders. Let’s make this finale unforgettable together!
URL:https://thednvr.com/event/love-island-finale-watch-party/
LOCATION:DNVR Bar\, 2239 E Colfax Ave\, Denver\, Colorado\, 80206
ATTACH;FMTTYPE=image/jpeg:https://thednvr.com/wp-content/uploads/sites/6/2025/07/LOVEISLAND.jpg
END:VEVENT
BEGIN:VEVENT
DTSTART;TZID=America/Denver:20250715T183000
DTEND;TZID=America/Denver:20250715T220000
DTSTAMP:20260422T035901
CREATED:20250702T225042Z
LAST-MODIFIED:20250702T225045Z
UID:10000370-1752604200-1752616800@thednvr.com
SUMMARY:Dungeons N Drafts at DNVR
DESCRIPTION:CLICK HERE TO REGISTER
URL:https://thednvr.com/event/dungeons-n-drafts-at-dnvr-3/
LOCATION:DNVR Bar\, 2239 E Colfax Ave\, Denver\, Colorado\, 80206
ATTACH;FMTTYPE=image/jpeg:https://thednvr.com/wp-content/uploads/sites/6/2025/07/IMG_2275.jpeg
END:VEVENT
BEGIN:VEVENT
DTSTART;TZID=America/Denver:20250718T080000
DTEND;TZID=America/Denver:20250718T150000
DTSTAMP:20260422T035901
CREATED:20250508T165331Z
LAST-MODIFIED:20250713T185609Z
UID:10000352-1752825600-1752850800@thednvr.com
SUMMARY:DNVR Golf Tournament- The 3rd Annual Midsummer Open at Broken Tee Golf Course
DESCRIPTION:🏌️Range Balls Prior To Round \n\n\n\n🍹 Bloody Mary Bar + Breakfast Burritos \n\n\n\n⛳️18 Holes with a Cart \n\n\n\n🎯 Games Throughout the Golf Course  \n\n\n\n🛍️ Goodie Bag & Limited Edition Ball Marker \n\n\n\n👕 Great Giveaways plus Prizes for winning teams \n\n\n\n🍔 Lunch\, Drinks and Post Round Party in Wyatt’s Restaurant at Broken Tee  \n\n\nDNVR Diehards Log In To Reveal Your Discount Code!\n\n                       \n            \n        \n                              Username\n                  \n        \n      \n      \n        \n          Password\n                    \n            \n            \n              \n            \n          \n        \n      \n            \n         Remember Me\n      \n       \n      \n        \n        \n        \n        \n      \n    \n     \n    \n      Forgot Password
URL:https://thednvr.com/event/dnvr-golf-tournament-the-3rd-annual-midsummer-open-at-broken-tee-golf-course/
LOCATION:Broken Tee Golf Course\, 2101 W Oxford Avenue\, Englewood\, Colorado\, 80110\, United States
CATEGORIES:Golf Event
ATTACH;FMTTYPE=image/jpeg:https://cdn.allcitynetwork.com/wp-content/uploads/sites/6/2025/05/16111027/IMG_7177.jpg
END:VEVENT
BEGIN:VEVENT
DTSTART;TZID=America/Denver:20250719T200000
DTEND;TZID=America/Denver:20250719T230000
DTSTAMP:20260422T035901
CREATED:20250715T141624Z
LAST-MODIFIED:20250715T163948Z
UID:10000374-1752955200-1752966000@thednvr.com
SUMMARY:UFC 318 at DNVR
DESCRIPTION:Catch Max Holloway vs Dustin Poirier and all the bouts from UFC 318 at the DNVR Bar \n\n\n\n$3 Well Drinks and $1.25 Wings!Click the button below to RSVP so we know you’re coming!
URL:https://thednvr.com/event/ufc-318-at-dnvr/
LOCATION:DNVR Bar\, 2239 E Colfax Ave\, Denver\, Colorado\, 80206
ATTACH;FMTTYPE=image/png:https://thednvr.com/wp-content/uploads/sites/6/2025/07/WebsiteUFC318.png
END:VEVENT
END:VCALENDAR