BEGIN:VCALENDAR
VERSION:2.0
PRODID:-//DNVR Sports - ECPv6.10.2//NONSGML v1.0//EN
CALSCALE:GREGORIAN
METHOD:PUBLISH
X-WR-CALNAME:DNVR Sports
X-ORIGINAL-URL:https://thednvr.com
X-WR-CALDESC:Events for DNVR Sports
REFRESH-INTERVAL;VALUE=DURATION:PT1H
X-Robots-Tag:noindex
X-PUBLISHED-TTL:PT1H
BEGIN:VTIMEZONE
TZID:America/Denver
BEGIN:DAYLIGHT
TZOFFSETFROM:-0700
TZOFFSETTO:-0600
TZNAME:MDT
DTSTART:20260308T090000
END:DAYLIGHT
BEGIN:STANDARD
TZOFFSETFROM:-0600
TZOFFSETTO:-0700
TZNAME:MST
DTSTART:20261101T080000
END:STANDARD
END:VTIMEZONE
BEGIN:VEVENT
DTSTART;TZID=America/Denver:20260503T120000
DTEND;TZID=America/Denver:20260503T160000
DTSTAMP:20260422T025249
CREATED:20260203T165609Z
LAST-MODIFIED:20260331T172815Z
UID:10000434-1777809600-1777824000@thednvr.com
SUMMARY:DNVR Rockies Suite Takeover vs Atlanta Braves
DESCRIPTION:Takeover Ticket Includes: \n\n\n\n🎟️ Right Field Private Suite Ticket to Rockies-Braves on Sunday\, May 3rd🍻 Food and Drinks During the Game👕 DNVR Rockies Merch Pack🎉 Immaculate Vibes with the DNVR Diehards \n\n\nDNVR Diehards Log in to reveal your discount code to save 20%\n\n                       \n            \n        \n                              Username\n                  \n        \n      \n      \n        \n          Password\n                    \n            \n            \n              \n            \n          \n        \n      \n            \n         Remember Me\n      \n       \n      \n        \n        \n        \n        \n      \n    \n     \n    \n      Forgot Password
URL:https://thednvr.com/event/dnvr-rockies-suite-takeover-vs-atlanta-braves/
LOCATION:Coors Field\, 2001 Blake Street\, Denver\, Colorado\, 80206\, United States
CATEGORIES:Takeovers
ATTACH;FMTTYPE=image/jpeg:https://cdn.allcitynetwork.com/wp-content/uploads/sites/6/2026/02/03094937/Topshelf_Rockies_050326_1920x1080.jpg
END:VEVENT
END:VCALENDAR