BEGIN:VCALENDAR
VERSION:2.0
PRODID:-//DNVR Sports - ECPv6.10.2//NONSGML v1.0//EN
CALSCALE:GREGORIAN
METHOD:PUBLISH
X-ORIGINAL-URL:https://thednvr.com
X-WR-CALDESC:Events for DNVR Sports
REFRESH-INTERVAL;VALUE=DURATION:PT1H
X-Robots-Tag:noindex
X-PUBLISHED-TTL:PT1H
BEGIN:VTIMEZONE
TZID:America/Denver
BEGIN:DAYLIGHT
TZOFFSETFROM:-0700
TZOFFSETTO:-0600
TZNAME:MDT
DTSTART:20260308T090000
END:DAYLIGHT
BEGIN:STANDARD
TZOFFSETFROM:-0600
TZOFFSETTO:-0700
TZNAME:MST
DTSTART:20261101T080000
END:STANDARD
END:VTIMEZONE
BEGIN:VEVENT
DTSTART;TZID=America/Denver:20260213T190000
DTEND;TZID=America/Denver:20260213T220000
DTSTAMP:20260421T175255
CREATED:20260204T195658Z
LAST-MODIFIED:20260204T195702Z
UID:10000435-1771009200-1771020000@thednvr.com
SUMMARY:Galentine's Watch Party at DNVR
DESCRIPTION:Welcome to the Galentine’s Watch Party at The DNVR Bar! Get ready for a night of fun with your besties on February 13\, 2026 at 7:00 PM (Mountain Time). Enjoy TWO for ONE select drinks for LADIES NIGHT! Let’s celebrate friendship and watch Ten Things I Hate About You\, together. MUST RSVP BELOW TO SECURE YOUR SPOT! \n\n\n\n\nAlso\, calling all City Cast Denver Neighbors! RSVP to meet up with the City Cast Denver team and your fellow neighbors. The team will have V-Day candy bags just for you and a free drink ticket! \n\n\n\n\nIn case you don’t know\, City Cast Denver is a daily news podcast and newsletter. Their membership program\, City Cast Denver Neighbors\, provides benefits such as shout-outs to local businesses on the podcast and newsletter\, a weekly events newsletter\, and member-exclusive events. Interested in becoming part of the community? Learn more here!
URL:https://thednvr.com/event/galentines-watch-party-at-dnvr/
LOCATION:DNVR Bar\, 2239 E Colfax Ave\, Denver\, Colorado\, 80206
CATEGORIES:Watch Party
ATTACH;FMTTYPE=image/png:https://cdn.allcitynetwork.com/wp-content/uploads/sites/6/2026/02/04125530/IMG_0119.png
END:VEVENT
END:VCALENDAR