BEGIN:VCALENDAR
VERSION:2.0
PRODID:-//DNVR Sports - ECPv6.10.2//NONSGML v1.0//EN
CALSCALE:GREGORIAN
METHOD:PUBLISH
X-ORIGINAL-URL:https://thednvr.com
X-WR-CALDESC:Events for DNVR Sports
REFRESH-INTERVAL;VALUE=DURATION:PT1H
X-Robots-Tag:noindex
X-PUBLISHED-TTL:PT1H
BEGIN:VTIMEZONE
TZID:America/Denver
BEGIN:DAYLIGHT
TZOFFSETFROM:-0700
TZOFFSETTO:-0600
TZNAME:MDT
DTSTART:20250309T090000
END:DAYLIGHT
BEGIN:STANDARD
TZOFFSETFROM:-0600
TZOFFSETTO:-0700
TZNAME:MST
DTSTART:20251102T080000
END:STANDARD
END:VTIMEZONE
BEGIN:VEVENT
DTSTART;TZID=America/Denver:20251228T000000
DTEND;TZID=America/Denver:20251228T235959
DTSTAMP:20260421T211525
CREATED:20251212T010853Z
LAST-MODIFIED:20251212T144309Z
UID:10000424-1766880000-1766966399@thednvr.com
SUMMARY:NFL Fantasy Football Championship Watch Parties at DNVR
DESCRIPTION:Fantasy Football Championship Weekend \n\n\n\nGet ready for an epic weekend of fantasy football action! EVERY NFL game will be on plus Red Zone. Join us in person to celebrate the ultimate showdown where bragging rights are on the line. Whether you’re a seasoned pro or just here for the fun\, this is the perfect chance to connect with fellow fans\, enjoy some great vibes\, and cheer on your Fantasy team. RSVP to receive a BOGO pitcher of your choice! Don’t drink? Get 20% off any app!FREE RSVP BELOW
URL:https://thednvr.com/event/nfl-fantasy-football-championship-watch-parties-at-dnvr/
LOCATION:DNVR Bar\, 2239 E Colfax Ave\, Denver\, Colorado\, 80206
ATTACH;FMTTYPE=image/jpeg:https://cdn.allcitynetwork.com/wp-content/uploads/sites/6/2025/12/11180833/IMG_7875.jpg
END:VEVENT
END:VCALENDAR