BEGIN:VCALENDAR
VERSION:2.0
PRODID:-//DNVR Sports - ECPv6.10.2//NONSGML v1.0//EN
CALSCALE:GREGORIAN
METHOD:PUBLISH
X-WR-CALNAME:DNVR Sports
X-ORIGINAL-URL:https://thednvr.com
X-WR-CALDESC:Events for DNVR Sports
REFRESH-INTERVAL;VALUE=DURATION:PT1H
X-Robots-Tag:noindex
X-PUBLISHED-TTL:PT1H
BEGIN:VTIMEZONE
TZID:America/Denver
BEGIN:DAYLIGHT
TZOFFSETFROM:-0700
TZOFFSETTO:-0600
TZNAME:MDT
DTSTART:20250309T090000
END:DAYLIGHT
BEGIN:STANDARD
TZOFFSETFROM:-0600
TZOFFSETTO:-0700
TZNAME:MST
DTSTART:20251102T080000
END:STANDARD
END:VTIMEZONE
BEGIN:VEVENT
DTSTART;TZID=America/Denver:20251222T190000
DTEND;TZID=America/Denver:20251222T210000
DTSTAMP:20260421T211505
CREATED:20251208T192800Z
LAST-MODIFIED:20251208T192802Z
UID:10000422-1766430000-1766437200@thednvr.com
SUMMARY:Elway: A Netflix Documentary Live from the DNVR Bar
DESCRIPTION:Elways Documentary Watch Party \n\n\n\nJoin us for an awesome in-person evening diving into the captivating story of John Elway. It’s the perfect chance to geek out\, meet fellow fans\, and enjoy a film that’s packed with stories of college/pro career and his transition to a front-office role with the Broncos. Key moments revisiting and iconic moment\, “The Drive”\, early Super Bowl losses\, and his back-to-back Super Bowl victories. \n\n\n\nRSVP BELOW
URL:https://thednvr.com/event/elway-a-netflix-documentary-live-from-the-dnvr-bar/
LOCATION:DNVR Bar\, 2239 E Colfax Ave\, Denver\, Colorado\, 80206
ATTACH;FMTTYPE=image/jpeg:https://cdn.allcitynetwork.com/wp-content/uploads/sites/6/2025/12/08122605/IMG_7793.jpg
END:VEVENT
END:VCALENDAR