BEGIN:VCALENDAR
VERSION:2.0
PRODID:-//DNVR Sports - ECPv6.10.2//NONSGML v1.0//EN
CALSCALE:GREGORIAN
METHOD:PUBLISH
X-WR-CALNAME:DNVR Sports
X-ORIGINAL-URL:https://thednvr.com
X-WR-CALDESC:Events for DNVR Sports
REFRESH-INTERVAL;VALUE=DURATION:PT1H
X-Robots-Tag:noindex
X-PUBLISHED-TTL:PT1H
BEGIN:VTIMEZONE
TZID:America/Denver
BEGIN:DAYLIGHT
TZOFFSETFROM:-0700
TZOFFSETTO:-0600
TZNAME:MDT
DTSTART:20250309T090000
END:DAYLIGHT
BEGIN:STANDARD
TZOFFSETFROM:-0600
TZOFFSETTO:-0700
TZNAME:MST
DTSTART:20251102T080000
END:STANDARD
END:VTIMEZONE
BEGIN:VEVENT
DTSTART;TZID=America/Denver:20251207T140000
DTEND;TZID=America/Denver:20251207T170000
DTSTAMP:20260421T211439
CREATED:20250804T184750Z
LAST-MODIFIED:20250804T184754Z
UID:10000392-1765116000-1765126800@thednvr.com
SUMMARY:DNVR Broncos Watch Party
DESCRIPTION:Every Broncos game we bring the fire. 🔥Game Sound\, Drink Specials\, Giveaways\, hanging out with the DNVR hosts\, and immaculate vibes ONLY! Don’t miss out on Denver’s 2025 award winning bar by the Westword for “Best Denver Broncos Bar”!
URL:https://thednvr.com/event/dnvr-broncos-watch-party/2025-12-07/
LOCATION:DNVR Bar\, 2239 E Colfax Ave\, Denver\, Colorado\, 80206
CATEGORIES:Watch Party
ATTACH;FMTTYPE=image/jpeg:https://cdn.allcitynetwork.com/wp-content/uploads/sites/6/2025/08/04124610/Broncos2025WP.jpg
END:VEVENT
END:VCALENDAR