BEGIN:VCALENDAR
VERSION:2.0
PRODID:-//DNVR Sports - ECPv6.10.2//NONSGML v1.0//EN
CALSCALE:GREGORIAN
METHOD:PUBLISH
X-WR-CALNAME:DNVR Sports
X-ORIGINAL-URL:https://thednvr.com
X-WR-CALDESC:Events for DNVR Sports
REFRESH-INTERVAL;VALUE=DURATION:PT1H
X-Robots-Tag:noindex
X-PUBLISHED-TTL:PT1H
BEGIN:VTIMEZONE
TZID:America/Denver
BEGIN:DAYLIGHT
TZOFFSETFROM:-0700
TZOFFSETTO:-0600
TZNAME:MDT
DTSTART:20250309T090000
END:DAYLIGHT
BEGIN:STANDARD
TZOFFSETFROM:-0600
TZOFFSETTO:-0700
TZNAME:MST
DTSTART:20251102T080000
END:STANDARD
END:VTIMEZONE
BEGIN:VEVENT
DTSTART;TZID=America/Denver:20251101T140000
DTEND;TZID=America/Denver:20251101T170000
DTSTAMP:20260421T230146
CREATED:20251027T173641Z
LAST-MODIFIED:20251027T173644Z
UID:10000414-1762005600-1762016400@thednvr.com
SUMMARY:DNVR Buffs Tailgate on Benson Field vs Arizona
DESCRIPTION:Join RK\, Jake\, Scott and the Buffs Diehards on Benson Field before homecoming presented by Toyota and Breckenridge Brewery!Music\, Breck Brews and Immaculate Vibes with the DNVR Buffs Crew
URL:https://thednvr.com/event/dnvr-buffs-tailgate-on-benson-field-vs-arizona/
LOCATION:DNVR Buffs Tailgate Benson Field\, 2200 Colorado Avenue\, Boulder\, Colorado\, 80309\, United States
CATEGORIES:Tailgates
ATTACH;FMTTYPE=image/jpeg:https://cdn.allcitynetwork.com/wp-content/uploads/sites/6/2025/08/22105744/Buffs_Tailgate_20251920x1080.jpg
ORGANIZER;CN="DNVR Sports":MAILTO:info@thednvr.com
END:VEVENT
END:VCALENDAR