BEGIN:VCALENDAR
VERSION:2.0
PRODID:-//DNVR Sports - ECPv6.10.2//NONSGML v1.0//EN
CALSCALE:GREGORIAN
METHOD:PUBLISH
X-ORIGINAL-URL:https://thednvr.com
X-WR-CALDESC:Events for DNVR Sports
REFRESH-INTERVAL;VALUE=DURATION:PT1H
X-Robots-Tag:noindex
X-PUBLISHED-TTL:PT1H
BEGIN:VTIMEZONE
TZID:America/Denver
BEGIN:DAYLIGHT
TZOFFSETFROM:-0700
TZOFFSETTO:-0600
TZNAME:MDT
DTSTART:20250309T090000
END:DAYLIGHT
BEGIN:STANDARD
TZOFFSETFROM:-0600
TZOFFSETTO:-0700
TZNAME:MST
DTSTART:20251102T080000
END:STANDARD
END:VTIMEZONE
BEGIN:VEVENT
DTSTART;TZID=America/Denver:20250829T090000
DTEND;TZID=America/Denver:20250829T170000
DTSTAMP:20260422T035900
CREATED:20250616T204947Z
LAST-MODIFIED:20250822T171002Z
UID:10000367-1756458000-1756486800@thednvr.com
SUMMARY:DNVR Golf Tournament: The Great Big DNVR Scramble Benefitting Big Brothers\, Big Sisters of Colorado
DESCRIPTION:The Great Big DNVR Scramble at Walnut Creek Golf Preserve in Westminster! \n\n\n\nDNVR Sports invites you to the Great Big Scramble for a 9am Shotgun Start 4 Person Scramble brought to you by Toyota and Red Hawk Roofing!Proceeds from this event go directly to DNVR’s partner Big Brothers\, Big Sisters Charity\n\n\n\nEntry fee Includes: \n\n\n\n🏌️Range Balls Prior To Round \n\n\n\n⛳️18 Holes with a Cart \n\n\n\n🎯 Games Throughout the Golf Course  \n\n\n\n🛍️ Goodie Bag & Limited Edition Ball Marker \n\n\n\n👕 Great Giveaways plus Prizes for winning teams \n\n\n\n🍔 Lunch\, Drinks and Post Round Party at Walnut Creek \n\n\n\n*Additional Tournament Sponsorships Available\, Contact Spencer@AllCityNetwork.com for more info*
URL:https://thednvr.com/event/dnvr-golf-tournament-the-great-big-dnvr-scramble-benefitting-big-brothers-big-sisters-of-colorado/
LOCATION:Colorado
CATEGORIES:Golf Event
ATTACH;FMTTYPE=image/jpeg:https://thednvr.com/wp-content/uploads/sites/6/2025/06/GBDNVR_1920x1080.jpg
END:VEVENT
BEGIN:VEVENT
DTSTART;TZID=America/Denver:20250829T160000
DTEND;TZID=America/Denver:20250829T180000
DTSTAMP:20260422T035900
CREATED:20250822T165938Z
LAST-MODIFIED:20250822T171023Z
UID:10000399-1756483200-1756490400@thednvr.com
SUMMARY:DNVR Buffs Tailgate on Benson Field vs Georgia Tech
DESCRIPTION:Join RK\, Jake\, Scott and the Buffs Diehards on Benson Field before every game presented by Toyota and Breckenridge Brewery!Yards Games\, Music\, Breck Brew and Immaculate Vibes!
URL:https://thednvr.com/event/dnvr-buffs-tailgate-on-benson-field-vs-georgia-tech/
LOCATION:DNVR Buffs Tailgate Benson Field\, 2200 Colorado Avenue\, Boulder\, Colorado\, 80309\, United States
ATTACH;FMTTYPE=image/jpeg:https://cdn.allcitynetwork.com/wp-content/uploads/sites/6/2025/08/22105744/Buffs_Tailgate_20251920x1080.jpg
ORGANIZER;CN="DNVR Sports":MAILTO:info@thednvr.com
END:VEVENT
END:VCALENDAR