BEGIN:VCALENDAR
VERSION:2.0
PRODID:-//DNVR Sports - ECPv6.10.2//NONSGML v1.0//EN
CALSCALE:GREGORIAN
METHOD:PUBLISH
X-ORIGINAL-URL:https://thednvr.com
X-WR-CALDESC:Events for DNVR Sports
REFRESH-INTERVAL;VALUE=DURATION:PT1H
X-Robots-Tag:noindex
X-PUBLISHED-TTL:PT1H
BEGIN:VTIMEZONE
TZID:America/Denver
BEGIN:DAYLIGHT
TZOFFSETFROM:-0700
TZOFFSETTO:-0600
TZNAME:MDT
DTSTART:20250309T090000
END:DAYLIGHT
BEGIN:STANDARD
TZOFFSETFROM:-0600
TZOFFSETTO:-0700
TZNAME:MST
DTSTART:20251102T080000
END:STANDARD
END:VTIMEZONE
BEGIN:VEVENT
DTSTART;TZID=America/Denver:20250822T123000
DTEND;TZID=America/Denver:20250822T153000
DTSTAMP:20260422T040004
CREATED:20250804T173607Z
LAST-MODIFIED:20250804T174138Z
UID:10000376-1755865800-1755876600@thednvr.com
SUMMARY:Women's Rugby World Cup Watch Party
DESCRIPTION:Welcome to the Women’s Rugby World Cup Watch Party brought to you by the Denver Onyx! \n\n\n\nDate: 8/22/2025 \n\n\n\nTime: 12:30pm \n\n\n\nLocation: The DNVR Bar \n\n\n\nCome join us at The DNVR Bar for a thrilling experience as we watch the Women’s Rugby World Cup together! Cheer on 9 players from the Onyx against England! Enjoy great company\, and soak up the electric atmosphere. Whether you’re a die-hard rugby fan or just looking for a fun time\, this event is perfect for everyone. Don’t miss out on the action – see you there!
URL:https://thednvr.com/event/womens-rugby-world-cup-watch-party/
LOCATION:DNVR Bar\, 2239 E Colfax Ave\, Denver\, Colorado\, 80206
ATTACH;FMTTYPE=image/jpeg:https://cdn.allcitynetwork.com/wp-content/uploads/sites/6/2025/08/04113541/WOMENSRUGBYWC.jpg
END:VEVENT
END:VCALENDAR