BEGIN:VCALENDAR
VERSION:2.0
PRODID:-//DNVR Sports - ECPv6.10.2//NONSGML v1.0//EN
CALSCALE:GREGORIAN
METHOD:PUBLISH
X-ORIGINAL-URL:https://thednvr.com
X-WR-CALDESC:Events for DNVR Sports
REFRESH-INTERVAL;VALUE=DURATION:PT1H
X-Robots-Tag:noindex
X-PUBLISHED-TTL:PT1H
BEGIN:VTIMEZONE
TZID:America/Denver
BEGIN:DAYLIGHT
TZOFFSETFROM:-0700
TZOFFSETTO:-0600
TZNAME:MDT
DTSTART:20250309T090000
END:DAYLIGHT
BEGIN:STANDARD
TZOFFSETFROM:-0600
TZOFFSETTO:-0700
TZNAME:MST
DTSTART:20251102T080000
END:STANDARD
END:VTIMEZONE
BEGIN:VEVENT
DTSTART;TZID=America/Denver:20250802T100000
DTEND;TZID=America/Denver:20250802T130000
DTSTAMP:20260422T035900
CREATED:20250709T181057Z
LAST-MODIFIED:20250715T184949Z
UID:10000372-1754128800-1754139600@thednvr.com
SUMMARY:DNVR Pickleball Tournament Benefitting Big Brothers Big Sisters of Colorado
DESCRIPTION:Join us for the DNVR Pickleball Tournament Benefitting Big Brothers Big Sisters of Colorado at Chicken N Pickle- Thornton! It’s going to be a day filled with fun\, competition\, and giving back to a great cause. Whether you’re a pickleball pro or just starting out\, this event is for everyone! Grab your paddle\, gather your friends\, and get ready to play your heart out for a good cause. Let’s make a difference together while having a blast on the court. See you there! \n\n\nDNVR diehards log in to reveal your discount code!\n\n                       \n            \n        \n                              Username\n                  \n        \n      \n      \n        \n          Password\n                    \n            \n            \n              \n            \n          \n        \n      \n            \n         Remember Me\n      \n       \n      \n        \n        \n        \n        \n      \n    \n     \n    \n      Forgot Password
URL:https://thednvr.com/event/dnvr-pickleball-tournament-benefitting-big-brothers-big-sisters/
LOCATION:Chicken N Pickle Thornton\, 14225 Lincoln Street\, Thornton\, Colorado\, 80023\, United States
CATEGORIES:Tournament
ATTACH;FMTTYPE=image/jpeg:https://thednvr.com/wp-content/uploads/sites/6/2025/07/DNVR_chickenpickle_Tournament1920x1080.jpg
END:VEVENT
END:VCALENDAR