BEGIN:VCALENDAR
VERSION:2.0
PRODID:-//DNVR Sports - ECPv6.10.2//NONSGML v1.0//EN
CALSCALE:GREGORIAN
METHOD:PUBLISH
X-ORIGINAL-URL:https://thednvr.com
X-WR-CALDESC:Events for DNVR Sports
REFRESH-INTERVAL;VALUE=DURATION:PT1H
X-Robots-Tag:noindex
X-PUBLISHED-TTL:PT1H
BEGIN:VTIMEZONE
TZID:America/Denver
BEGIN:DAYLIGHT
TZOFFSETFROM:-0700
TZOFFSETTO:-0600
TZNAME:MDT
DTSTART:20240310T090000
END:DAYLIGHT
BEGIN:STANDARD
TZOFFSETFROM:-0600
TZOFFSETTO:-0700
TZNAME:MST
DTSTART:20241103T080000
END:STANDARD
END:VTIMEZONE
BEGIN:VEVENT
DTSTART;TZID=America/Denver:20241209T183000
DTEND;TZID=America/Denver:20241209T220000
DTSTAMP:20260422T164311
CREATED:20241204T175822Z
LAST-MODIFIED:20241205T205738Z
UID:10000304-1733769000-1733781600@thednvr.com
SUMMARY:Dungeons and Drafts at the DNVR Bar
DESCRIPTION:Join us for great drinks\, food\, and company to play a D&D one shot adventure! And we’ll have premade characters for you to choose from when you arrive so you can jump into the action. We’ll be happy to teach you how to play as well! \n\n\n\nGet your ticket!!
URL:https://thednvr.com/event/dungeons-and-drafts-at-the-dnvr-bar/
LOCATION:DNVR Bar\, 2239 E Colfax Ave\, Denver\, Colorado\, 80206
CATEGORIES:Bar Event
ATTACH;FMTTYPE=image/jpeg:https://cdn.allcitynetwork.com/wp-content/uploads/sites/6/2024/12/05135723/IMG_5396.jpg
END:VEVENT
END:VCALENDAR